BEGIN:VCALENDAR
VERSION:2.0
PRODID:-//Holytrinitybaptist.org - ECPv6.15.20//NONSGML v1.0//EN
CALSCALE:GREGORIAN
METHOD:PUBLISH
X-WR-CALNAME:Holytrinitybaptist.org
X-ORIGINAL-URL:https://holytrinitybaptist.org
X-WR-CALDESC:Events for Holytrinitybaptist.org
REFRESH-INTERVAL;VALUE=DURATION:PT1H
X-Robots-Tag:noindex
X-PUBLISHED-TTL:PT1H
BEGIN:VTIMEZONE
TZID:UTC
BEGIN:STANDARD
TZOFFSETFROM:+0000
TZOFFSETTO:+0000
TZNAME:UTC
DTSTART:20250101T000000
END:STANDARD
END:VTIMEZONE
BEGIN:VEVENT
DTSTART;TZID=UTC:20260308T103000
DTEND;TZID=UTC:20260308T130000
DTSTAMP:20260423T192955
CREATED:20260302T175117Z
LAST-MODIFIED:20260330T140025Z
UID:2557-1772965800-1772974800@holytrinitybaptist.org
SUMMARY:Deacons Deaconess\, Trustee  & Mother's Anniversary
DESCRIPTION:Deacons\, Deaconesses\, Trustees & Mother’s Anniversary Celebration\nHoly Trinity Baptist Church joyfully celebrates the faithful service of our Deacons\, Deaconesses\, Trustees\, & Mother’s. These devoted servants work diligently behind the scenes and on the front lines\, supporting the Pastor\, strengthening the ministry\, and ensuring the church stands on a firm spiritual and operational foundation. \nThis special anniversary honors their commitment\, sacrifice\, and unwavering dedication to God’s house. Through prayer\, stewardship\, and leadership\, they help carry the vision of Holy Trinity forward. \nJoin us as we celebrate these pillars of service and thank God for their faithful hearts and enduring commitment.
URL:https://holytrinitybaptist.org/event/deacons-deaconess-trustee-anniversary/
LOCATION:Holy Trinity Baptist Church\, 1818 Bainbridge Street\, Philadelphia PA 19146\, PA\, 18146\, United States
CATEGORIES:Church Activities
ATTACH;FMTTYPE=image/png:https://holytrinitybaptist.org/wp-content/uploads/2026/03/front-deacons-2.png
ORGANIZER;CN="Holy Trinity Baptist Church":MAILTO:holytrinitybaptist@gmail.com
END:VEVENT
END:VCALENDAR