BEGIN:VCALENDAR
VERSION:2.0
PRODID:-//Holytrinitybaptist.org - ECPv6.15.20//NONSGML v1.0//EN
CALSCALE:GREGORIAN
METHOD:PUBLISH
X-ORIGINAL-URL:https://holytrinitybaptist.org
X-WR-CALDESC:Events for Holytrinitybaptist.org
REFRESH-INTERVAL;VALUE=DURATION:PT1H
X-Robots-Tag:noindex
X-PUBLISHED-TTL:PT1H
BEGIN:VTIMEZONE
TZID:UTC
BEGIN:STANDARD
TZOFFSETFROM:+0000
TZOFFSETTO:+0000
TZNAME:UTC
DTSTART:20250101T000000
END:STANDARD
END:VTIMEZONE
BEGIN:VEVENT
DTSTART;TZID=UTC:20260104T093000
DTEND;TZID=UTC:20260205T140000
DTSTAMP:20260423T223221
CREATED:20251201T104516Z
LAST-MODIFIED:20260109T162419Z
UID:501-1767519000-1770300000@holytrinitybaptist.org
SUMMARY:Sunday Worship Service
DESCRIPTION: Start your week with power\, purpose\, and praise. \nJoin us each Sunday morning for a Spirit-filled worship experience designed to uplift your soul and strengthen your walk with God. From the moment you walk through the doors\, you’ll be welcomed with love\, embraced by community\, and encouraged through heartfelt worship and biblical teaching.
URL:https://holytrinitybaptist.org/event/sunday-worship-service/
LOCATION:Holy Trinity Baptist Church\, 1818 Bainbridge Street\, Philadelphia PA 19146\, PA\, 18146\, United States
CATEGORIES:Church Activities
ATTACH;FMTTYPE=image/webp:https://holytrinitybaptist.org/wp-content/uploads/2025/11/abel-marquez-0chVl3b15MQ-unsplash-scaled.webp
ORGANIZER;CN="Holy Trinity Baptist Church":MAILTO:holytrinitybaptist@gmail.com
END:VEVENT
BEGIN:VEVENT
DTSTART;TZID=UTC:20260109T080000
DTEND;TZID=UTC:20260301T170000
DTSTAMP:20260423T223221
CREATED:20260109T164503Z
LAST-MODIFIED:20260109T164503Z
UID:1948-1767945600-1772384400@holytrinitybaptist.org
SUMMARY:COMING SOON
DESCRIPTION:Something powerful is on the way! Get ready for an upcoming event at [Your Church Name] that promises to inspire\, uplift\, and bring us together in faith and fellowship. Whether it’s worship\, Word\, or community\, you won’t want to miss what God is getting ready to do. Stay tuned\, details are coming soon!
URL:https://holytrinitybaptist.org/event/coming-soon/
LOCATION:Holy Trinity Baptist Church\, 1818 Bainbridge Street\, Philadelphia PA 19146\, PA\, 18146\, United States
ATTACH;FMTTYPE=image/webp:https://holytrinitybaptist.org/wp-content/uploads/2026/01/COMING-SOON.webp
ORGANIZER;CN="Holy Trinity Baptist Church":MAILTO:holytrinitybaptist@gmail.com
END:VEVENT
BEGIN:VEVENT
DTSTART;TZID=UTC:20260109T180000
DTEND;TZID=UTC:20260604T193000
DTSTAMP:20260423T223221
CREATED:20260109T150416Z
LAST-MODIFIED:20260330T140659Z
UID:1915-1767981600-1780601400@holytrinitybaptist.org
SUMMARY:BIBLE STUDY
DESCRIPTION:Join us for a recurring Bible Study class where faith meets understanding\, and the Word comes to life! Whether you’re new to Scripture or have studied for years\, this is a space to grow\, ask questions\, and deepen your relationship with God. Each session dives into biblical truths\, real-life application\, and Spirit-led discussion. Come expecting insight\, encouragement\, and a sense of community. Let’s walk through the Word together.
URL:https://holytrinitybaptist.org/event/bible-study/
LOCATION:PA
CATEGORIES:ZOOM
ATTACH;FMTTYPE=image/png:https://holytrinitybaptist.org/wp-content/uploads/2026/01/BIBLE-STUDY-2.png
ORGANIZER;CN="Holy Trinity Baptist Church":MAILTO:holytrinitybaptist@gmail.com
END:VEVENT
BEGIN:VEVENT
DTSTART;TZID=UTC:20260221T143000
DTEND;TZID=UTC:20260221T170000
DTSTAMP:20260423T223221
CREATED:20251113T232211Z
LAST-MODIFIED:20260109T162802Z
UID:507-1771684200-1771693200@holytrinitybaptist.org
SUMMARY:Holy Trinity Baptist Church - Bowling-Fundraiser
DESCRIPTION:Bowling for a Blessing!\nChurch Fundraiser & Family Fun Night \nStrike up some fun and roll into fellowship at our upcoming Church Bowling Party Fundraiser! This isn’t just a night of pins and laughter—it’s a chance to come together as a community while supporting a powerful cause. Bring your friends\, your family\, and your best bowling move. Whether you’re a pro on the lanes or just here for the snacks and good vibes\, there’s a place for you! Let’s make every roll count for fun\, fellowship\, and faith. Come bowl with a purpose!
URL:https://holytrinitybaptist.org/event/holy-trinity-baptist-church-bowling-fundraiser/
LOCATION:Holy Trinity Baptist Church\, 1818 Bainbridge Street\, Philadelphia PA 19146\, PA\, 18146\, United States
CATEGORIES:Church Activities
ATTACH;FMTTYPE=image/webp:https://holytrinitybaptist.org/wp-content/uploads/2026/01/bowling.webp
ORGANIZER;CN="Holy Trinity Baptist Church":MAILTO:holytrinitybaptist@gmail.com
END:VEVENT
BEGIN:VEVENT
DTSTART;TZID=UTC:20260301T104500
DTEND;TZID=UTC:20260301T133000
DTSTAMP:20260423T223221
CREATED:20260224T102614Z
LAST-MODIFIED:20260330T140553Z
UID:2349-1772361900-1772371800@holytrinitybaptist.org
SUMMARY:Voices of Victory Anniversary
DESCRIPTION:Join us as we celebrate the faithful voices and unwavering dedication of our Church Choir! This special anniversary marks years of lifting hearts\, ushering in worship\, and glorifying God through song. Through every harmony and hymn\, they have ministered hope\, joy\, and encouragement to our congregation. We thank God for their commitment\, passion\, and powerful praise. Come celebrate the music\, the memories\, and the ministry as we honor a legacy of worship that continues to bless generations.
URL:https://holytrinitybaptist.org/event/voices-of-victory-anniversary/
LOCATION:Holy Trinity Baptist Church\, 1818 Bainbridge Street\, Philadelphia PA 19146\, PA\, 18146\, United States
CATEGORIES:Church Activities
ATTACH;FMTTYPE=image/webp:https://holytrinitybaptist.org/wp-content/uploads/2026/03/voices-of-victory.webp
ORGANIZER;CN="Holy Trinity Baptist Church":MAILTO:holytrinitybaptist@gmail.com
END:VEVENT
BEGIN:VEVENT
DTSTART;TZID=UTC:20260308T103000
DTEND;TZID=UTC:20260308T130000
DTSTAMP:20260423T223221
CREATED:20260302T175117Z
LAST-MODIFIED:20260330T140025Z
UID:2557-1772965800-1772974800@holytrinitybaptist.org
SUMMARY:Deacons Deaconess\, Trustee  & Mother's Anniversary
DESCRIPTION:Deacons\, Deaconesses\, Trustees & Mother’s Anniversary Celebration\nHoly Trinity Baptist Church joyfully celebrates the faithful service of our Deacons\, Deaconesses\, Trustees\, & Mother’s. These devoted servants work diligently behind the scenes and on the front lines\, supporting the Pastor\, strengthening the ministry\, and ensuring the church stands on a firm spiritual and operational foundation. \nThis special anniversary honors their commitment\, sacrifice\, and unwavering dedication to God’s house. Through prayer\, stewardship\, and leadership\, they help carry the vision of Holy Trinity forward. \nJoin us as we celebrate these pillars of service and thank God for their faithful hearts and enduring commitment.
URL:https://holytrinitybaptist.org/event/deacons-deaconess-trustee-anniversary/
LOCATION:Holy Trinity Baptist Church\, 1818 Bainbridge Street\, Philadelphia PA 19146\, PA\, 18146\, United States
CATEGORIES:Church Activities
ATTACH;FMTTYPE=image/png:https://holytrinitybaptist.org/wp-content/uploads/2026/03/front-deacons-2.png
ORGANIZER;CN="Holy Trinity Baptist Church":MAILTO:holytrinitybaptist@gmail.com
END:VEVENT
BEGIN:VEVENT
DTSTART;TZID=UTC:20260426T100000
DTEND;TZID=UTC:20260426T140000
DTSTAMP:20260423T223221
CREATED:20260421T124116Z
LAST-MODIFIED:20260421T124116Z
UID:3347-1777197600-1777212000@holytrinitybaptist.org
SUMMARY:Pastoral 14th Anniversary
DESCRIPTION:Celebrating 14 Years of Faithful Leadership \nWe joyfully celebrate our beloved Pastor\, David McIlwaine\, on his 14th Anniversary at Holy Trinity Baptist Church. For over a decade\, Pastor McIlwaine has faithfully shepherded this congregation with wisdom\, compassion\, and unwavering dedication to God’s Word. \nThrough every season\, he has stood as a pillar of strength\, preaching with power\, leading with integrity\, and loving God’s people with a genuine heart. His leadership has not only guided our church spiritually but has also strengthened our unity\, deepened our faith\, and inspired us to walk boldly in our purpose. \nBecause of his commitment\, lives have been changed\, families restored\, and our church has continued to grow in grace and truth.  Pastor McIlwaine\, we honor you today and thank God for the vision\, sacrifice\, and servant leadership you have poured into Holy Trinity Baptist Church. Your labor in the Lord has not been in vain. \nWe celebrate you\, we appreciate you\, and we are grateful for 14 years of impactful ministry!
URL:https://holytrinitybaptist.org/event/pastoral-14th-anniversary/
LOCATION:Holy Trinity Baptist Church\, 1818 Bainbridge Street\, Philadelphia PA 19146\, PA\, 18146\, United States
CATEGORIES:Church Activities
ATTACH;FMTTYPE=image/png:https://holytrinitybaptist.org/wp-content/uploads/2026/04/david-annivesary-flyer.png
ORGANIZER;CN="Holy Trinity Baptist Church":MAILTO:holytrinitybaptist@gmail.com
END:VEVENT
END:VCALENDAR