BEGIN:VCALENDAR
VERSION:2.0
PRODID:-//Holytrinitybaptist.org - ECPv6.15.20//NONSGML v1.0//EN
CALSCALE:GREGORIAN
METHOD:PUBLISH
X-ORIGINAL-URL:https://holytrinitybaptist.org
X-WR-CALDESC:Events for Holytrinitybaptist.org
REFRESH-INTERVAL;VALUE=DURATION:PT1H
X-Robots-Tag:noindex
X-PUBLISHED-TTL:PT1H
BEGIN:VTIMEZONE
TZID:UTC
BEGIN:STANDARD
TZOFFSETFROM:+0000
TZOFFSETTO:+0000
TZNAME:UTC
DTSTART:20250101T000000
END:STANDARD
END:VTIMEZONE
BEGIN:VEVENT
DTSTART;TZID=UTC:20260109T180000
DTEND;TZID=UTC:20260604T193000
DTSTAMP:20260423T180549
CREATED:20260109T150416Z
LAST-MODIFIED:20260330T140659Z
UID:1915-1767981600-1780601400@holytrinitybaptist.org
SUMMARY:BIBLE STUDY
DESCRIPTION:Join us for a recurring Bible Study class where faith meets understanding\, and the Word comes to life! Whether you’re new to Scripture or have studied for years\, this is a space to grow\, ask questions\, and deepen your relationship with God. Each session dives into biblical truths\, real-life application\, and Spirit-led discussion. Come expecting insight\, encouragement\, and a sense of community. Let’s walk through the Word together.
URL:https://holytrinitybaptist.org/event/bible-study/
LOCATION:PA
CATEGORIES:ZOOM
ATTACH;FMTTYPE=image/png:https://holytrinitybaptist.org/wp-content/uploads/2026/01/BIBLE-STUDY-2.png
ORGANIZER;CN="Holy Trinity Baptist Church":MAILTO:holytrinitybaptist@gmail.com
END:VEVENT
BEGIN:VEVENT
DTSTART;TZID=UTC:20260426T100000
DTEND;TZID=UTC:20260426T140000
DTSTAMP:20260423T180549
CREATED:20260421T124116Z
LAST-MODIFIED:20260421T124116Z
UID:3347-1777197600-1777212000@holytrinitybaptist.org
SUMMARY:Pastoral 14th Anniversary
DESCRIPTION:Celebrating 14 Years of Faithful Leadership \nWe joyfully celebrate our beloved Pastor\, David McIlwaine\, on his 14th Anniversary at Holy Trinity Baptist Church. For over a decade\, Pastor McIlwaine has faithfully shepherded this congregation with wisdom\, compassion\, and unwavering dedication to God’s Word. \nThrough every season\, he has stood as a pillar of strength\, preaching with power\, leading with integrity\, and loving God’s people with a genuine heart. His leadership has not only guided our church spiritually but has also strengthened our unity\, deepened our faith\, and inspired us to walk boldly in our purpose. \nBecause of his commitment\, lives have been changed\, families restored\, and our church has continued to grow in grace and truth.  Pastor McIlwaine\, we honor you today and thank God for the vision\, sacrifice\, and servant leadership you have poured into Holy Trinity Baptist Church. Your labor in the Lord has not been in vain. \nWe celebrate you\, we appreciate you\, and we are grateful for 14 years of impactful ministry!
URL:https://holytrinitybaptist.org/event/pastoral-14th-anniversary/
LOCATION:Holy Trinity Baptist Church\, 1818 Bainbridge Street\, Philadelphia PA 19146\, PA\, 18146\, United States
CATEGORIES:Church Activities
ATTACH;FMTTYPE=image/png:https://holytrinitybaptist.org/wp-content/uploads/2026/04/david-annivesary-flyer.png
ORGANIZER;CN="Holy Trinity Baptist Church":MAILTO:holytrinitybaptist@gmail.com
END:VEVENT
END:VCALENDAR